BEGIN:VCALENDAR
VERSION:2.0
PRODID:-//ChamberMaster//Event Calendar 2.0//EN
METHOD:PUBLISH
X-PUBLISHED-TTL:P3D
REFRESH-INTERVAL:P3D
CALSCALE:GREGORIAN
BEGIN:VEVENT
DTSTART:20250513T140000Z
DTEND:20250513T160000Z
X-MICROSOFT-CDO-ALLDAYEVENT:FALSE
SUMMARY:Transportation Solutions Symposium
DESCRIPTION:Join us for a Transportation Solutions Symposium!\n\nYou are invited to learn from industry experts and solved the transportation challenges impacting your workforce!\n\n- Discover where your employees are commuting from and how to optimize your recruitment strategy\n\n- Get proven\, actionable strategies for making it easier for employees to get to you\n\n- Connect with transportation industry experts\, regional businesses and local government leaders.\n\n\n\nThis event is brought to you by Waukesha Ozaukee Washington Workforce Development in partnership with the Germantown Area Chamber of Commerce
X-ALT-DESC;FMTTYPE=text/html:Join us for a Transportation Solutions Symposium!<br />\nYou are invited to learn from industry experts and solved the transportation challenges impacting your workforce!<br />\n- Discover where your employees are commuting from and how to optimize your recruitment strategy<br />\n- Get proven\, actionable strategies for making it easier for employees to get to you<br />\n- Connect with transportation industry experts\, regional businesses and local government leaders.<br />\n<br />\nThis event is brought to you by Waukesha Ozaukee Washington Workforce Development in partnership with the Germantown Area Chamber of Commerce
LOCATION:American Legion Post 1 N120 W15932 Freistadt Rd Germantown
UID:e.2331.8837
SEQUENCE:3
DTSTAMP:20260425T125918Z
URL:http://germantownchamber.chambermaster.com/events/details/transportation-solutions-symposium-8837
END:VEVENT

END:VCALENDAR
